This is the mail archive of the
gcc-testresults@gcc.gnu.org
mailing list for the GCC project.
Results for 4.4.0 20090310 (experimental) [trunk revision 144738] (GCC) testsuite on hppa2.0-unknown-linux-gnu
- From: "Laurent GUERBY gcc61" <guerby at k2000 dot esiee dot fr>
- To: gcc-testresults at gcc dot gnu dot org
- Date: Wed, 11 Mar 2009 04:33:32 +0100
- Subject: Results for 4.4.0 20090310 (experimental) [trunk revision 144738] (GCC) testsuite on hppa2.0-unknown-linux-gnu
LAST_UPDATED: Tue Mar 10 06:00:46 UTC 2009 (revision 144738)
=== acats tests ===
=== acats Summary ===
# of expected passes 2315
# of unexpected failures 0
Native configuration is hppa2.0-unknown-linux-gnu
=== gcc tests ===
Running target unix
XPASS: gcc.dg/tree-ssa/loop-1.c scan-assembler-times foo 5
=== gcc Summary ===
# of expected passes 49176
# of unexpected successes 1
# of expected failures 128
# of unsupported tests 512
/home/guerby/build/gcc/xgcc version 4.4.0 20090310 (experimental) [trunk revision 144738] (GCC)
=== gnat tests ===
Running target unix
=== gnat Summary ===
# of expected passes 610
# of expected failures 6
=== libgomp tests ===
Running target unix
=== libgomp Summary ===
# of expected passes 236
# of unsupported tests 7
=== libmudflap tests ===
Running target unix
=== libmudflap Summary ===
# of expected passes 1740
# of unsupported tests 2
Compiler version: 4.4.0 20090310 (experimental) [trunk revision 144738] (GCC)
Platform: hppa2.0-unknown-linux-gnu
configure flags: --prefix=/n/61/guerby/install-trunk --enable-languages=c,ada --enable-__cxa_atexit --disable-nls --enable-threads=posix --with-mpfr=/opt/cfarm/mpfr-2.3.2