This is the mail archive of the
gcc-testresults@gcc.gnu.org
mailing list for the GCC project.
ACATS results for 20090303 (experimental) [trunk revision 144581] on powerpc-rtems4.10
- From: "Joel Sherrill <joel dot sherrill at rtems dot org>" <joel at rtems dot org>
- To: gcc-testresults at gcc dot gnu dot org, rtems-tooltestresults at rtems dot org
- Date: Tue, 03 Mar 2009 16:55:55 -0600
- Subject: ACATS results for 20090303 (experimental) [trunk revision 144581] on powerpc-rtems4.10
HOST: i686-pc-linux-gnu
powerpc-rtems4.10-gcc (GCC) 4.4.0 20090303 (experimental) [trunk revision 144581]
=== acats Summary ===
# of expected passes 2310
# of unexpected failures 2
# of unsupported tests 3
ce2108f - simulator does not have persistent files
ce2108h - simulator does not have persistent files
ce3112d - simulator does not have persistent files
c380004 - unknown reason for failure
c974013 - unknown reason for failure
======= Logs for failed tests ======