This is the mail archive of the
gcc-testresults@gcc.gnu.org
mailing list for the GCC project.
ACATS results for 20090202 (experimental) [trunk revision 143883] on mips-rtems4.10
- From: "Joel Sherrill <joel dot sherrill at rtems dot org>" <joel at rtems dot org>
- To: gcc-testresults at gcc dot gnu dot org, rtems-tooltestresults at rtems dot org
- Date: Tue, 03 Feb 2009 10:21:54 -0600
- Subject: ACATS results for 20090202 (experimental) [trunk revision 143883] on mips-rtems4.10
HOST: i686-pc-linux-gnu
mips-rtems4.10-gcc (GCC) 4.4.0 20090202 (experimental) [trunk revision 143883]
=== acats Summary ===
======= Logs for failed tests ======