This is the mail archive of the
gcc-testresults@gcc.gnu.org
mailing list for the GCC project.
ACATS results for 20090130 (experimental) [trunk revision 143810] on bfin-rtems4.10
- From: "Joel Sherrill <joel dot sherrill at rtems dot org>" <joel at rtems dot org>
- To: gcc-testresults at gcc dot gnu dot org, rtems-tooltestresults at rtems dot org
- Date: Sun, 01 Feb 2009 03:34:11 -0600
- Subject: ACATS results for 20090130 (experimental) [trunk revision 143810] on bfin-rtems4.10
HOST: x86_64-unknown-linux-gnu
bfin-rtems4.10-gcc (GCC) 4.4.0 20090130 (experimental) [trunk revision 143810]
=== acats Summary ===
======= Logs for failed tests ======