This is the mail archive of the
gcc-testresults@gcc.gnu.org
mailing list for the GCC project.
Results for 4.3.3 20081230 (prerelease) [gcc-4_3-branch revision 142967] (GCC) testsuite on hppa64-hp-hpux11.11
- From: John David Anglin <dave at hiauly3 dot hia dot nrc dot ca>
- To: dave at hiauly3 dot hia dot nrc dot ca, gcc-testresults at gcc dot gnu dot org
- Date: Wed, 31 Dec 2008 10:08:53 -0500 (EST)
- Subject: Results for 4.3.3 20081230 (prerelease) [gcc-4_3-branch revision 142967] (GCC) testsuite on hppa64-hp-hpux11.11
LAST_UPDATED: Tue Dec 30 22:18:27 UTC 2008 (revision 142967)
Native configuration is hppa64-hp-hpux11.11
=== g++ tests ===
Running target unix
XPASS: g++.dg/eh/weak1.C execution test
XPASS: g++.old-deja/g++.pt/static6.C (test for excess errors)
=== g++ Summary ===
# of expected passes 16634
# of unexpected successes 2
# of expected failures 84
# of unsupported tests 182
/mnt/gnu/gcc/objdir/gcc/testsuite/g++/../../g++ version 4.3.3 20081230 (prerelease) [gcc-4_3-branch revision 142967] (GCC)
=== gcc tests ===
Running target unix
XPASS: gcc.dg/cpp/cmdlne-dI-M.c scan-file (^|\\\\n)cmdlne-dI-M.*:[^\\\\n]*cmdlne-dI-M.c
XPASS: gcc.dg/cpp/cmdlne-dM-M.c scan-file (^|\\\\n)cmdlne-dM-M[^\\\\n]*:[^\\\\n]*cmdlne-dM-M.c
XPASS: gcc.dg/funcorder.c scan-assembler-not link_error,%r
=== gcc Summary ===
# of expected passes 45303
# of unexpected successes 3
# of expected failures 92
# of untested testcases 35
# of unsupported tests 417
/mnt/gnu/gcc/objdir/gcc/xgcc version 4.3.3 20081230 (prerelease) [gcc-4_3-branch revision 142967] (GCC)
=== gfortran tests ===
Running target unix
=== gfortran Summary ===
# of expected passes 24375
# of expected failures 3
# of unsupported tests 162
/mnt/gnu/gcc/objdir/gcc/testsuite/gfortran/../../gfortran version 4.3.3 20081230 (prerelease) [gcc-4_3-branch revision 142967] (GCC)
=== obj-c++ tests ===
Running target unix
WARNING: obj-c++.dg/lookup-2.mm compilation failed to produce executable
WARNING: obj-c++.dg/try-catch-2.mm compilation failed to produce executable
WARNING: obj-c++.dg/try-catch-9.mm compilation failed to produce executable
=== obj-c++ Summary ===
# of expected passes 423
# of expected failures 23
# of unsupported tests 13
/mnt/gnu/gcc/objdir/gcc/testsuite/obj-c++/../../g++ version 4.3.3 20081230 (prerelease) [gcc-4_3-branch revision 142967] (GCC)
=== objc tests ===
Running target unix
=== objc Summary ===
# of expected passes 1810
# of expected failures 7
# of unsupported tests 25
/mnt/gnu/gcc/objdir/gcc/xgcc version 4.3.3 20081230 (prerelease) [gcc-4_3-branch revision 142967] (GCC)
=== libgomp tests ===
Running target unix
=== libgomp Summary ===
# of expected passes 1749
# of unsupported tests 7
=== libstdc++ tests ===
Running target unix
=== libstdc++ Summary ===
# of expected passes 4898
# of expected failures 59
# of unsupported tests 345
Compiler version: 4.3.3 20081230 (prerelease) [gcc-4_3-branch revision 142967] (GCC)
Platform: hppa64-hp-hpux11.11
configure flags: --with-gnu-as --with-as=/opt/gnu64/bin/as --with-ld=/usr/ccs/bin/ld --enable-shared --with-local-prefix=/opt/gnu64 --prefix=/opt/gnu64/gcc/gcc-4.3.2 --host=hppa64-hp-hpux11.11 --enable-threads=posix --disable-nls --with-gmp=/opt/gnu64/gcc/gcc-4.3.2 --enable-checking=release -enable-languages=c,c++,objc,obj-c++,fortran