This is the mail archive of the gcc-testresults@gcc.gnu.org mailing list for the GCC project.


Index Nav: [Date Index] [Subject Index] [Author Index] [Thread Index]
Message Nav: [Date Prev] [Date Next] [Thread Prev] [Thread Next]
Other format: [Raw text]

ACATS results for 20080918 (experimental) [trunk revision 140475] on sh-rtems4.10


sh-rtems4.10-gcc (GCC) 4.4.0 20080918 (experimental) [trunk revision 140475]

=== acats Summary ===
# of expected passes 2299
# of unexpected failures 13
# of unsupported tests 3

ce2108f - simulator does not have persistent files
ce2108h - simulator does not have persistent files
ce3112d - simulator does not have persistent files
a22006b - unknown reason for failure
c380004 - Memory exception at 44000 (illegal address)
c45532m - raised CONSTRAINT_ERROR : c45532m.adb:143 range check failed
c45532o - raised CONSTRAINT_ERROR : c45532o.adb:147 range check failed
c45532p - raised CONSTRAINT_ERROR : c45532p.adb:141 range check failed
c953002 - ran too long, may eventually finish simsh7032:c953002: Memory exception at 44000 (illegal address)
c974013 - Memory exception at 44000 (illegal address)
cd1c04e - explicit fail THE VALUES OF DERIVED_TYPE COMPONENTS WERE INCORRECT.
cxa4009 - explicit fail Incorrect results
cxa4020 - explicit fail Incorrect results
cxg2018 - Memory exception at 44000 (illegal address)
cxg2019 - Memory exception at 44000 (illegal address)
cxg2021 - Memory exception at 44000 (illegal address)

======= Logs for failed tests ======


Index Nav: [Date Index] [Subject Index] [Author Index] [Thread Index]
Message Nav: [Date Prev] [Date Next] [Thread Prev] [Thread Next]