This is the mail archive of the gcc-testresults@gcc.gnu.org mailing list for the GCC project.


Index Nav: [Date Index] [Subject Index] [Author Index] [Thread Index]
Message Nav: [Date Prev] [Date Next] [Thread Prev] [Thread Next]
Other format: [Raw text]

ACATS results for 20080920 (experimental) [trunk revision 140516] on powerpc-rtems4.10


powerpc-rtems4.10-gcc (GCC) 4.4.0 20080920 (experimental) [trunk revision 140516]

                === acats Summary ===
# of expected passes		2229
# of unexpected failures	83
# of unsupported tests		3

ce2108f - simulator does not have persistent files
ce2108h - simulator does not have persistent files
ce3112d - simulator does not have persistent files
c354003 - unknown reason for failure
c380004 - unknown reason for failure
c392013 - unknown reason for failure
c41328a - INCORRECT RESULTS FROM DERIVED SUBPROGRAM - 3.
c974013 - unknown reason for failure
cc40001 - unknown reason for failure
cd10002 - unknown reason for failure
ce3901a - unknown reason for failure
ce3902b - unknown reason for failure
ce3904a - unknown reason for failure
ce3904b - unknown reason for failure
ce3905a - unknown reason for failure
ce3905b - unknown reason for failure
ce3905c - unknown reason for failure
ce3905l - unknown reason for failure
ce3906a - unknown reason for failure
ce3906b - unknown reason for failure
ce3906c - unknown reason for failure
ce3906d - unknown reason for failure
ce3906e - unknown reason for failure
ce3906f - unknown reason for failure
ce3907a - unknown reason for failure
ce3908a - unknown reason for failure
cxa3001 - unknown reason for failure
cxa3002 - unknown reason for failure
cxa3003 - unknown reason for failure
cxa4001 - unknown reason for failure
cxa4002 - unknown reason for failure
cxa4003 - unknown reason for failure
cxa4004 - unknown reason for failure
cxa4005 - unknown reason for failure
cxa4006 - unknown reason for failure
cxa4007 - unknown reason for failure
cxa4008 - unknown reason for failure
cxa4009 - unknown reason for failure
cxa4010 - unknown reason for failure
cxa4011 - unknown reason for failure
cxa4012 - unknown reason for failure
cxa4018 - unknown reason for failure
cxa4019 - unknown reason for failure
cxa4020 - unknown reason for failure
cxa4021 - unknown reason for failure
cxa4022 - unknown reason for failure
cxa4023 - unknown reason for failure
cxa4024 - unknown reason for failure
cxa4025 - unknown reason for failure
cxa4026 - unknown reason for failure
cxa4027 - unknown reason for failure
cxa4028 - unknown reason for failure
cxa4029 - unknown reason for failure
cxa4030 - unknown reason for failure
cxa4031 - unknown reason for failure
cxa4032 - unknown reason for failure
cxa4033 - unknown reason for failure
cxa4034 - unknown reason for failure
cxa5011 - unknown reason for failure
cxa5012 - unknown reason for failure
cxaa011 - unknown reason for failure
cxac004 - unknown reason for failure
cxb3004 - unknown reason for failure
cxb3005 - unknown reason for failure
cxb3007 - unknown reason for failure
cxb3009 - unknown reason for failure
cxb4002 - unknown reason for failure
cxb4005 - unknown reason for failure
cxb5002 - unknown reason for failure
cxb5003 - unknown reason for failure
cxf3001 - unknown reason for failure
cxf3002 - unknown reason for failure
cxf3003 - unknown reason for failure
cxf3004 - unknown reason for failure
cxf3a01 - unknown reason for failure
cxf3a02 - unknown reason for failure
cxf3a03 - unknown reason for failure
cxf3a04 - unknown reason for failure
cxf3a05 - unknown reason for failure
cxf3a06 - unknown reason for failure
cxf3a07 - unknown reason for failure
cxf3a08 - unknown reason for failure
cxg2018 - unknown reason for failure
cxg2019 - unknown reason for failure
cxg2021 - unknown reason for failure
cxh3002 - unknown reason for failure

======= Logs for failed tests ======


Index Nav: [Date Index] [Subject Index] [Author Index] [Thread Index]
Message Nav: [Date Prev] [Date Next] [Thread Prev] [Thread Next]