This is the mail archive of the gcc-testresults@gcc.gnu.org mailing list for the GCC project.


Index Nav: [Date Index] [Subject Index] [Author Index] [Thread Index]
Message Nav: [Date Prev] [Date Next] [Thread Prev] [Thread Next]
Other format: [Raw text]

ACATS results for on i386-rtems4.9


i386-rtems4.9-gcc (GCC) 4.3.2

=== acats Summary ===
# of expected passes 2282
# of unexpected failures 30
# of unsupported tests 3

ce2108f - simulator does not have persistent files
ce2108h - simulator does not have persistent files
ce3112d - simulator does not have persistent files
c2a002a - unknown reason for failure
c380004 - unknown reason for failure
c39008b - unknown reason for failure
c3a1002 - unknown reason for failure
c41201d - unknown reason for failure
c43208a - unknown reason for failure
c45532n - unknown reason for failure
c48009c - unknown reason for failure
c64201b - unknown reason for failure
c953002 - ran too long, some output
cd4031a - unknown reason for failure
ce3901a - unknown reason for failure
cxg2002 - FPU precision issue on qemu
cxg2003 - FPU precision issue on qemu
cxg2004 - FPU precision issue on qemu
cxg2006 - FPU precision issue on qemu
cxg2007 - FPU precision issue on qemu
cxg2010 - FPU precision issue on qemu
cxg2011 - FPU precision issue on qemu
cxg2012 - FPU precision issue on qemu
cxg2013 - FPU precision issue on qemu
cxg2014 - ran too long, some output
cxg2015 - FPU precision issue on qemu
cxg2016 - FPU precision issue on qemu
cxg2017 - FPU precision issue on qemu
cxg2018 - FPU precision issue on qemu
cxg2019 - FPU precision issue on qemu
cxg2020 - FPU precision issue on qemu
cxg2021 - FPU precision issue on qemu
la14026 - unknown reason for failure

======= Logs for failed tests ======


Index Nav: [Date Index] [Subject Index] [Author Index] [Thread Index]
Message Nav: [Date Prev] [Date Next] [Thread Prev] [Thread Next]