This is the mail archive of the
gcc-testresults@gcc.gnu.org
mailing list for the GCC project.
ACATS results for on arm-rtems4.9
- From: Joel Sherrill <joel dot sherrill at oarcorp dot com>
- To: gcc-testresults at gcc dot gnu dot org
- Date: Sat, 13 Sep 2008 12:48:16 -0500
- Subject: ACATS results for on arm-rtems4.9
- Reply-to: joel dot sherrill at oarcorp dot com
arm-rtems4.9-gcc (GCC) 4.3.2
=== acats Summary ===
# of expected passes 2283
# of unexpected failures 29
# of unsupported tests 3
ce2108f - simulator does not have persistent files
ce2108h - simulator does not have persistent files
ce3112d - simulator does not have persistent files
c34006d - unknown reason for failure
c34006f - unknown reason for failure
c34006j - unknown reason for failure
c34006l - unknown reason for failure
c34007s - unknown reason for failure
c34007u - unknown reason for failure
c34009d - unknown reason for failure
c34009f - unknown reason for failure
c34009j - unknown reason for failure
c34009l - unknown reason for failure
c380004 - unknown reason for failure
c3a1002 - unknown reason for failure
c64201c - unknown reason for failure
c85006a - unknown reason for failure
c85006b - unknown reason for failure
c85006c - unknown reason for failure
c85006d - unknown reason for failure
c85006e - unknown reason for failure
c93001a - unknown reason for failure
c93003a - unknown reason for failure
c93004f - unknown reason for failure
c93005b - unknown reason for failure
c953002 - unknown reason for failure
c974001 - unknown reason for failure
c974013 - unknown reason for failure
c9a011b - unknown reason for failure
cxf3a03 - unknown reason for failure
cxg2018 - unknown reason for failure
cxg2021 - unknown reason for failure
======= Logs for failed tests ======