This is the mail archive of the
gcc-testresults@gcc.gnu.org
mailing list for the GCC project.
ACATS results for 20080831 (experimental) [trunk revision 139833] on mips-rtems4.9
- From: joel at gcc11 dot fsffrance dot org
- To: gcc-testresults at gcc dot gnu dot org
- Date: Mon, 01 Sep 2008 23:00:37 +0200
- Subject: ACATS results for 20080831 (experimental) [trunk revision 139833] on mips-rtems4.9
mips-rtems4.9-gcc (GCC) 4.4.0 20080831 (experimental) [trunk revision 139833]
=== acats Summary ===
# of expected passes 2307
# of unexpected failures 5
# of unsupported tests 3
ce2108f - simulator does not have persistent files
ce2108h - simulator does not have persistent files
ce3112d - simulator does not have persistent files
c41328a - INCORRECT RESULTS FROM DERIVED SUBPROGRAM - 3.
cd1c04e - unknown reason for failure
ce3305a - unknown reason for failure
cxf3a01 - read from bad address
cxf3a02 - read from bad address
======= Logs for failed tests ======