This is the mail archive of the
gcc-testresults@gcc.gnu.org
mailing list for the GCC project.
ACATS results for 20080821 (experimental) [trunk revision 139415] on sparc-rtems4.9
- From: Joel Sherrill <joel dot sherrill at oarcorp dot com>
- To: gcc-testresults at gcc dot gnu dot org
- Date: Thu, 21 Aug 2008 23:19:31 -0500
- Subject: ACATS results for 20080821 (experimental) [trunk revision 139415] on sparc-rtems4.9
- Reply-to: joel dot sherrill at oarcorp dot com
sparc-rtems4.9-gcc (GCC) 4.4.0 20080821 (experimental) [trunk revision 139415]
=== acats Summary ===
# of expected passes 2299
# of unexpected failures 8
# of unsupported tests 8
ce2108f - simulator does not have persistent files
ce2108h - simulator does not have persistent files
ce3112d - simulator does not have persistent files
cxg2005 - FP exception - SIS simulator is not accurate enough
cxg2012 - FP exception - SIS simulator is not accurate enough
cxg2014 - FP exception - SIS simulator is not accurate enough
cxg2017 - FP exception - SIS simulator is not accurate enough
cxg2020 - FP exception - SIS simulator is not accurate enough
c37213j - address exception
c37213k - alignment exception
c47007a - alignment exception
c47009a - alignment exception
c761006 - unknown reason for failure
c953002 - ran too long, may eventually finish
cd1c04e - unknown reason for failure
cd2a24e - GNAT BUG DETECTED -- follow up required
======= Logs for failed tests ======