This is the mail archive of the
gcc-testresults@gcc.gnu.org
mailing list for the GCC project.
ACATS results for 20080811 (experimental) [trunk revision 138957] on mips-rtems4.9
- From: Joel Sherrill <joel dot sherrill at oarcorp dot com>
- To: gcc-testresults at gcc dot gnu dot org
- Date: Tue, 12 Aug 2008 05:55:23 -0500
- Subject: ACATS results for 20080811 (experimental) [trunk revision 138957] on mips-rtems4.9
- Reply-to: joel dot sherrill at oarcorp dot com
mips-rtems4.9-gcc (GCC) 4.4.0 20080811 (experimental) [trunk revision 138957]
=== acats Summary ===
# of expected passes 2308
# of unexpected failures 4
# of unsupported tests 3
ce2108f - simulator does not have persistent files
ce2108h - simulator does not have persistent files
ce3112d - simulator does not have persistent files
cd1c04e - unknown reason for failure
cd2a24e - GNAT BUG DETECTED -- follow up required
cxf3a01 - read from bad address
cxf3a02 - read from bad address
======= Logs for failed tests ======