This is the mail archive of the
gcc-testresults@gcc.gnu.org
mailing list for the GCC project.
ACATS results for 20080809 (experimental) [trunk revision 138905] on arm-rtems4.9
- From: Joel Sherrill <joel dot sherrill at oarcorp dot com>
- To: gcc-testresults at gcc dot gnu dot org
- Date: Sun, 10 Aug 2008 15:40:08 -0500
- Subject: ACATS results for 20080809 (experimental) [trunk revision 138905] on arm-rtems4.9
- Reply-to: joel dot sherrill at oarcorp dot com
arm-rtems4.9-gcc (GCC) 4.4.0 20080809 (experimental) [trunk revision 138905]
=== acats Summary ===
# of expected passes 2300
# of unexpected failures 12
# of unsupported tests 3
ce2108f - simulator does not have persistent files
ce2108h - simulator does not have persistent files
ce3112d - simulator does not have persistent files
c380004 - unknown reason for failure
c41328a - unknown reason for failure
c953002 - unknown reason for failure
c974001 - unknown reason for failure
c974013 - unknown reason for failure
c9a011b - unknown reason for failure
cd2a24e - GNAT BUG DETECTED -- follow up required
cxa9002 - GNAT BUG DETECTED -- follow up required
cxg2018 - unknown reason for failure
cxg2019 - unknown reason for failure
cxg2021 - unknown reason for failure
la14021 - GNAT BUG DETECTED -- follow up required
======= Logs for failed tests ======