This is the mail archive of the
gcc-testresults@gcc.gnu.org
mailing list for the GCC project.
Results for 4.2.4 testsuite on i686-pc-linux-gnu
- From: Gabriele Inghirami <suonodelsilenzio at tiscalinet dot it>
- To: gcc-testresults at gcc dot gnu dot org
- Date: Wed, 21 May 2008 00:44:56 +0200
- Subject: Results for 4.2.4 testsuite on i686-pc-linux-gnu
I compiled gcc 4.2.4 using gcc 4.2.3.
My linux distribution is Slackware 12.1, with glibc 2.7 (recompiled by me with gcc 4.2.2 optimizing them for athlon-xp).
linux kernel is:
$ uname -a
Linux darkenergy 2.6.22.19-gi #1 Sat May 17 20:30:06 CEST 2008 i686 AMD Athlon(tm) 64 Processor 3200+ AuthenticAMD GNU/Linux
$ as -v
GNU assembler version 2.18 (i486-slackware-linux) using BFD version (GNU Binutils) 2.18
$ make --version
GNU Make 3.81
$ expect -version
expect version 5.43.0
Thank you very much for your great work!
Have a nice day.
Gabriele Inghirami
--------------------------------------------------------------
LAST_UPDATED: Obtained from SVN: tags/gcc_4_2_4_release revision 135573
Native configuration is i686-pc-linux-gnu
=== gcc tests ===
Running target unix
UNRESOLVED: gcc.c-torture/execute/mayalias-2.c execution, -O3 -g
XPASS: gcc.dg/cpp/cmdlne-dI-M.c scan-file (^|\\\\n)cmdlne-dI-M.*:[^\\\\n]*cmdlne-dI-M.c
XPASS: gcc.dg/cpp/cmdlne-dM-M.c scan-file (^|\\\\n)cmdlne-dM-M[^\\\\n]*:[^\\\\n]*cmdlne-dM-M.c
=== gcc Summary ===
# of expected passes 42601
# of unexpected successes 2
# of expected failures 114
# of unresolved testcases 1
# of untested testcases 28
# of unsupported tests 295
/home/g/gcc-4.2.4/build/gcc/xgcc version 4.2.4
=== gfortran tests ===
Running target unix
XPASS: gfortran.dg/csqrt_2.f -O0 execution test
XPASS: gfortran.dg/csqrt_2.f -O1 execution test
XPASS: gfortran.dg/csqrt_2.f -O2 execution test
XPASS: gfortran.dg/csqrt_2.f -O3 -fomit-frame-pointer execution test
XPASS: gfortran.dg/csqrt_2.f -O3 -fomit-frame-pointer -funroll-loops execution test
XPASS: gfortran.dg/csqrt_2.f -O3 -fomit-frame-pointer -funroll-all-loops -finline-functions execution test
XPASS: gfortran.dg/csqrt_2.f -O3 -g execution test
XPASS: gfortran.dg/csqrt_2.f -Os execution test
=== gfortran Summary ===
# of expected passes 16282
# of unexpected successes 8
# of expected failures 7
# of unsupported tests 16
/home/g/gcc-4.2.4/build/gcc/testsuite/gfortran/../../gfortran version 4.2.4
=== g++ tests ===
Running target unix
=== g++ Summary ===
# of expected passes 13654
# of expected failures 67
# of unsupported tests 74
/home/g/gcc-4.2.4/build/gcc/testsuite/g++/../../g++ version 4.2.4
=== obj-c++ tests ===
Running target unix
WARNING: obj-c++.dg/lookup-2.mm compilation failed to produce executable
WARNING: obj-c++.dg/try-catch-2.mm compilation failed to produce executable
WARNING: obj-c++.dg/try-catch-9.mm compilation failed to produce executable
=== obj-c++ Summary ===
# of expected passes 443
# of expected failures 6
# of unsupported tests 13
/home/g/gcc-4.2.4/build/gcc/testsuite/obj-c++/../../g++ version 4.2.4
=== objc tests ===
Running target unix
=== objc Summary ===
# of expected passes 1806
# of expected failures 7
# of unsupported tests 24
/home/g/gcc-4.2.4/build/gcc/xgcc version 4.2.4
=== treelang tests ===
Running target unix
=== treelang Summary ===
# of expected passes 52
=== libffi tests ===
Running target unix
=== libffi Summary ===
# of expected passes 1084
# of unsupported tests 8
=== libgomp tests ===
Running target unix
=== libgomp Summary ===
# of expected passes 1574
=== libjava tests ===
Running target unix
=== libjava Summary ===
# of expected passes 7006
# of expected failures 12
# of untested testcases 8
=== libmudflap tests ===
Running target unix
=== libmudflap Summary ===
# of expected passes 1814
=== libstdc++ tests ===
Running target unix
XPASS: 26_numerics/cmath/c99_classification_macros_c.cc (test for excess errors)
=== libstdc++ Summary ===
# of expected passes 3853
# of unexpected successes 1
# of expected failures 14
# of unsupported tests 316
Compiler version: 4.2.4
Platform: i686-pc-linux-gnu
configure flags: --prefix=/usr --enable-shared --enable-threads --enable-__cxa_atexit --enable-languages=c,c++,fortran,java,objc,obj-c++,treelang