This is the mail archive of the
gcc-testresults@gcc.gnu.org
mailing list for the GCC project.
Results for gcc acats testsuite on
- From: guerby at gcc12 dot fsffrance dot org
- To: gcc-testresults at gcc dot gnu dot org
- Date: Tue, 29 Apr 2008 03:30:45 +0200
- Subject: Results for gcc acats testsuite on
LAST_UPDATED: Mon Apr 28 23:23:58 UTC 2008 (revision 134768)
=== acats tests ===
=== acats Summary ===
# of expected passes 2315
# of unexpected failures 0
Compiler version: gcc acats
Platform:
configure flags: --prefix=/n/04/guerby/install-trunk --enable-languages=all,ada --enable-__cxa_atexit --disable-nls --enable-threads=posix --disable-multilib --with-mpfr=/opt/cfarm/mpfr-2.3.1