This is the mail archive of the
gcc-testresults@gcc.gnu.org
mailing list for the GCC project.
Results for 4.4.0 20080310 (experimental) [trunk revision 133085] (GCC) testsuite on sparc-unknown-rtems4.9
- From: Joel Sherrill <joel dot sherrill at oarcorp dot com>
- To: gcc-testresults at gcc dot gnu dot org
- Date: Wed, 12 Mar 2008 08:17:34 -0500
- Subject: Results for 4.4.0 20080310 (experimental) [trunk revision 133085] (GCC) testsuite on sparc-unknown-rtems4.9
- Last_updated: Mon Mar 10 19:43:42 UTC 2008 (revision 133085)
- Reply-to: joel dot sherrill at oarcorp dot com
Target is sparc-unknown-rtems4.9
Host is i686-pc-linux-gnu
=== gcc tests ===
Running target rtems-i386-qemu
=== gcc Summary ===
# of expected passes 113
/home/joel/work-gnat/svn/b-gcc1-sparc/gcc/xgcc version 4.4.0 20080310 (experimental) [trunk revision 133085] (GCC)
Host is i686-pc-linux-gnu
=== g++ tests ===
Running target rtems-i386-pc386
ERROR: couldn't load description file for rtems-i386-pc386
Compiler version: 4.4.0 20080310 (experimental) [trunk revision 133085] (GCC)
Platform: sparc-unknown-rtems4.9
configure flags: --enable-threads=rtems --with-gnu-as --enable-multilib --with-gnu-ld --with-newlib --verbose --with-system-zlib --disable-nls --enable-version-specific-runtime-libs --enable-languages=c,c++ --target=sparc-rtems4.9 --prefix=/home/joel/work-gnat/svn//install