This is the mail archive of the
gcc-testresults@gcc.gnu.org
mailing list for the GCC project.
ACATS sparc-rtems4.9 SVN revision 132320
- From: Joel Sherrill <joel dot sherrill at oarcorp dot com>
- To: <gcc-testresults at gcc dot gnu dot org>
- Date: Fri, 15 Feb 2008 14:52:30 -0600
- Subject: ACATS sparc-rtems4.9 SVN revision 132320
sparc-rtems4.9-gcc (GCC) 4.3.0 20080214 (experimental) [trunk revision
132320]
=== acats Summary ===
# of expected passes 2300
# of unexpected failures 12
# of unsupported tests 3
*** FAILURES: c37213j c37213k c47007a c47009a c953002 c97301c c974013
cxg2005 cxg2012 cxg2014 cxg2017 cxg2020
--
Joel Sherrill, Ph.D. Director of Research & Development
joel.sherrill@OARcorp.com On-Line Applications Research
Ask me about RTEMS: a free RTOS Huntsville AL 35805
Support Available (256) 722-9985