This is the mail archive of the
gcc-testresults@gcc.gnu.org
mailing list for the GCC project.
Results for 4.2.4 20080212 (prerelease) testsuite on hppa64-hp-hpux11.11
- From: John David Anglin <dave at hiauly3 dot hia dot nrc dot ca>
- To: dave at hiauly3 dot hia dot nrc dot ca, gcc-testresults at gcc dot gnu dot org
- Date: Wed, 13 Feb 2008 10:49:24 -0500 (EST)
- Subject: Results for 4.2.4 20080212 (prerelease) testsuite on hppa64-hp-hpux11.11
LAST_UPDATED: Tue Feb 12 22:44:29 UTC 2008 (revision 132277M)
Native configuration is hppa64-hp-hpux11.11
=== g++ tests ===
Running target unix
XPASS: g++.dg/eh/weak1.C execution test
=== g++ Summary ===
# of expected passes 12704
# of unexpected successes 1
# of expected failures 70
# of unsupported tests 149
/mnt/gnu/gcc/objdir/gcc/testsuite/g++/../../g++ version 4.2.4 20080212 (prerelease)
=== gcc tests ===
Running target unix
UNRESOLVED: gcc.c-torture/execute/mayalias-2.c execution, -O3 -g
XPASS: gcc.dg/cpp/cmdlne-dI-M.c scan-file (^|\\\\n)cmdlne-dI-M.*:[^\\\\n]*cmdlne-dI-M.c
XPASS: gcc.dg/cpp/cmdlne-dM-M.c scan-file (^|\\\\n)cmdlne-dM-M[^\\\\n]*:[^\\\\n]*cmdlne-dM-M.c
XPASS: gcc.dg/funcorder.c scan-assembler-not link_error,%r
=== gcc Summary ===
# of expected passes 40201
# of unexpected successes 3
# of expected failures 84
# of unresolved testcases 1
# of untested testcases 28
# of unsupported tests 450
/mnt/gnu/gcc/objdir/gcc/xgcc version 4.2.4 20080212 (prerelease)
=== gfortran tests ===
Running target unix
=== gfortran Summary ===
# of expected passes 16042
# of expected failures 6
# of unsupported tests 105
/mnt/gnu/gcc/objdir/gcc/testsuite/gfortran/../../gfortran version 4.2.4 20080212 (prerelease)
=== obj-c++ tests ===
Running target unix
WARNING: obj-c++.dg/lookup-2.mm compilation failed to produce executable
WARNING: obj-c++.dg/try-catch-2.mm compilation failed to produce executable
WARNING: obj-c++.dg/try-catch-9.mm compilation failed to produce executable
=== obj-c++ Summary ===
# of expected passes 429
# of expected failures 20
# of unsupported tests 13
/mnt/gnu/gcc/objdir/gcc/testsuite/obj-c++/../../g++ version 4.2.4 20080212 (prerelease)
=== objc tests ===
Running target unix
=== objc Summary ===
# of expected passes 1804
# of expected failures 7
# of unsupported tests 25
/mnt/gnu/gcc/objdir/gcc/xgcc version 4.2.4 20080212 (prerelease)
=== libgomp tests ===
Running target unix
=== libgomp Summary ===
# of expected passes 1340
# of unsupported tests 118
=== libstdc++ tests ===
Running target unix
=== libstdc++ Summary ===
# of expected passes 3820
# of expected failures 15
# of unsupported tests 332
Compiler version: 4.2.4 20080212 (prerelease)
Platform: hppa64-hp-hpux11.11
configure flags: --with-gnu-as --with-as=/opt/gnu64/bin/as --with-ld=/usr/ccs/bin/ld --enable-shared --with-local-prefix=/opt/gnu64 --prefix=/opt/gnu64/gcc/gcc-4.2.4 --host=hppa64-hp-hpux11.11 --enable-threads=posix --disable-nls --with-gmp=/opt/gnu64/gcc/gcc-4.2.4 -enable-languages=c,c++,objc,obj-c++,fortran --enable-languages=c,c++,fortran,objc,obj-c++