This is the mail archive of the
gcc-testresults@gcc.gnu.org
mailing list for the GCC project.
Results for gcc testsuite on x86_64-unknown-linux-gnu
- From: Edmar Wienskoski-RA8797 <ra8797 at freescale dot com>
- To: gcc-testresults at gcc dot gnu dot org
- Date: Wed, 6 Feb 2008 23:16:44 -0600
- Subject: Results for gcc testsuite on x86_64-unknown-linux-gnu
LAST_UPDATED:
Native configuration is x86_64-unknown-linux-gnu
=== g++ tests ===
Running target reg_e600_ssh
=== g++ Summary ===
=== gcc tests ===
Running target reg_e600_ssh
=== gcc Summary ===
=== gfortran tests ===
Running target reg_e600_ssh
=== gfortran Summary ===
Compiler version: gcc
Platform: x86_64-unknown-linux-gnu
configure flags: --target=powerpc-unknown-linux-gnualtivec --prefix=/_TOOLS_/dist/gnu_toolchain/regression-gcc-trunk-7450/i686-pc-linux2.4 --with-sysroot=/_TOOLS_/dist/gnu_toolchain/regression-gcc-trunk-7450/i686-pc-linux2.4/sysroot --disable-libssp --disable-libmudflap --enable-languages=c,c++ --with-gmp=/_TOOLS_/dist/gnu_toolchain/build_support-x86_64-unknown-linux-gnu/install_gmp-4.1.4 --with-mpfr=/_TOOLS_/dist/gnu_toolchain/build_support-x86_64-unknown-linux-gnu/install_mpfr-2.3.0 --with-cpu=7450 --enable-altivec --disable-decimal-float --enable-languages=c,c++,fortran