This is the mail archive of the gcc-testresults@gcc.gnu.org mailing list for the GCC project.


Index Nav: [Date Index] [Subject Index] [Author Index] [Thread Index]
Message Nav: [Date Prev] [Date Next] [Thread Prev] [Thread Next]
Other format: [Raw text]

Results for 4.2.3 20080131 (prerelease) testsuite on i686-pc-linux-gnu


LAST_UPDATED: Thu Jan 31 19:21:25 UTC 2008 (/branches/gcc-4_2-branch revision 131975)

Native configuration is i686-pc-linux-gnu

		=== g++ tests ===


Running target localhost
XPASS: g++.dg/tree-ssa/ivopts-1.C scan-tree-dump-not offset: -4B
XPASS: g++.dg/tree-ssa/ivopts-1.C scan-tree-dump-not &x\\[5\\]

		=== g++ Summary ===

# of expected passes		13641
# of unexpected successes	2
# of expected failures		67
# of unsupported tests		74
/scratch/gcc/nightly-2008-01-30-4.2/i686-pc-linux-gnu/build_gcc/build/test-4.2-0-i686-pc-linux-gnu/host-i686-pc-linux-gnu/fsf-4.2/bin/i686-pc-linux-gnu-g++  version 4.2.3 20080131 (prerelease)

		=== gcc tests ===


Running target localhost
UNRESOLVED: gcc.c-torture/execute/mayalias-2.c execution,  -O3 -g 

		=== gcc Summary ===

# of expected passes		42492
# of expected failures		116
# of unresolved testcases	1
# of untested testcases		28
# of unsupported tests		295
/scratch/gcc/nightly-2008-01-30-4.2/i686-pc-linux-gnu/build_gcc/build/test-4.2-0-i686-pc-linux-gnu/host-i686-pc-linux-gnu/fsf-4.2/bin/i686-pc-linux-gnu-gcc  version 4.2.3 20080131 (prerelease)

		=== libstdc++ tests ===


Running target localhost

		=== libstdc++ Summary ===

# of expected passes		4479
# of expected failures		16
# of unsupported tests		2

Compiler version: 4.2.3 20080131 (prerelease) 
Platform: i686-pc-linux-gnu
configure flags: --build=i686-pc-linux-gnu --host=i686-pc-linux-gnu --target=i686-pc-linux-gnu --enable-threads --disable-libmudflap --disable-libssp --disable-libgomp --disable-libstdcxx-pch --with-gnu-as --with-gnu-ld --enable-languages=c,c++ --enable-shared --disable-nls --prefix=/opt/codesourcery --with-build-time-tools=/scratch/gcc/nightly-2008-01-30-4.2/i686-pc-linux-gnu/build_gcc/install/i686-pc-linux-gnu/bin --with-build-time-tools=/scratch/gcc/nightly-2008-01-30-4.2/i686-pc-linux-gnu/build_gcc/install/i686-pc-linux-gnu/bin


Index Nav: [Date Index] [Subject Index] [Author Index] [Thread Index]
Message Nav: [Date Prev] [Date Next] [Thread Prev] [Thread Next]