This is the mail archive of the
gcc-testresults@gcc.gnu.org
mailing list for the GCC project.
Results for 4.2.2 20070907 (prerelease) testsuite on i686-pc-linux-gnu
- From: CodeSourcery Automatic Testing System <gcc at codesourcery dot com>
- To: gcc-testresults at gcc dot gnu dot org
- Date: Fri, 7 Sep 2007 07:40:06 -0700
- Subject: Results for 4.2.2 20070907 (prerelease) testsuite on i686-pc-linux-gnu
LAST_UPDATED: Fri Sep 7 11:34:11 UTC 2007 (/branches/gcc-4_2-branch revision 128228)
Native configuration is i686-pc-linux-gnu
=== g++ tests ===
Running target unix
XPASS: g++.dg/tree-ssa/ivopts-1.C scan-tree-dump-not offset: -4B
XPASS: g++.dg/tree-ssa/ivopts-1.C scan-tree-dump-not &x\\[5\\]
=== g++ Summary ===
# of expected passes 13571
# of unexpected successes 2
# of expected failures 66
# of unsupported tests 74
/scratch/gcc/nightly-2007-09-07-4.2/i686-pc-linux-gnu/build_gcc/build/test-4.2-0-i686-pc-linux-gnu/host-i686-pc-linux-gnu/fsf-4.2/bin/i686-pc-linux-gnu-g++ version 4.2.2 20070907 (prerelease)
=== gcc tests ===
Running target unix
UNRESOLVED: gcc.c-torture/execute/mayalias-2.c execution, -O3 -g
=== gcc Summary ===
# of expected passes 42209
# of expected failures 116
# of unresolved testcases 1
# of untested testcases 28
# of unsupported tests 294
/scratch/gcc/nightly-2007-09-07-4.2/i686-pc-linux-gnu/build_gcc/build/test-4.2-0-i686-pc-linux-gnu/host-i686-pc-linux-gnu/fsf-4.2/bin/i686-pc-linux-gnu-gcc version 4.2.2 20070907 (prerelease)
=== libstdc++ tests ===
Running target unix
=== libstdc++ Summary ===
# of expected passes 4472
# of expected failures 16
# of unsupported tests 2
Compiler version: 4.2.2 20070907 (prerelease)
Platform: i686-pc-linux-gnu
configure flags: --build=i686-pc-linux-gnu --host=i686-pc-linux-gnu --target=i686-pc-linux-gnu --enable-threads --disable-libmudflap --disable-libssp --disable-libgomp --disable-libstdcxx-pch --with-gnu-as --with-gnu-ld --enable-languages=c,c++ --enable-shared --disable-nls --prefix=/opt/codesourcery --with-build-time-tools=/scratch/gcc/nightly-2007-09-07-4.2/i686-pc-linux-gnu/build_gcc/install/i686-pc-linux-gnu/bin --with-build-time-tools=/scratch/gcc/nightly-2007-09-07-4.2/i686-pc-linux-gnu/build_gcc/install/i686-pc-linux-gnu/bin