This is the mail archive of the
gcc-testresults@gcc.gnu.org
mailing list for the GCC project.
Results for 4.1.2 20060624 (prerelease) [gcc-4_1-branch revision 114976 clean] testsuite on i686-pc-linux-gnu
- From: hjl at gnu-67 dot sc dot intel dot com (H.J. Lu)
- To: gcc-testresults at gcc dot gnu dot org
- Date: Mon, 26 Jun 2006 12:17:35 -0700 (PDT)
- Subject: Results for 4.1.2 20060624 (prerelease) [gcc-4_1-branch revision 114976 clean] testsuite on i686-pc-linux-gnu
LAST_UPDATED: Sun Jun 25 00:22:53 UTC 2006 (revision 114976)
Native configuration is i686-pc-linux-gnu
=== gcc tests ===
Running target unix
=== gcc Summary ===
# of expected passes 38435
# of expected failures 101
# of untested testcases 28
# of unsupported tests 245
/export/build/gnu/gcc-4.1/build-i686-linux/gcc/xgcc version 4.1.2 20060624 (prerelease) [gcc-4_1-branch revision 114976 clean]
=== gfortran tests ===
Running target unix
=== gfortran Summary ===
# of expected passes 12884
# of expected failures 13
# of unsupported tests 16
/export/build/gnu/gcc-4.1/build-i686-linux/gcc/testsuite/gfortran/../../gfortran version 4.1.2 20060624 (prerelease) [gcc-4_1-branch revision 114976 clean]
=== g++ tests ===
Running target unix
XPASS: g++.dg/tree-ssa/pr14814.C scan-tree-dump-times &this 0
=== g++ Summary ===
# of expected passes 12165
# of unexpected successes 1
# of expected failures 67
# of unsupported tests 66
/export/build/gnu/gcc-4.1/build-i686-linux/gcc/testsuite/g++/../../g++ version 4.1.2 20060624 (prerelease) [gcc-4_1-branch revision 114976 clean]
=== objc tests ===
Running target unix
=== objc Summary ===
# of expected passes 1686
# of unsupported tests 22
/export/build/gnu/gcc-4.1/build-i686-linux/gcc/xgcc version 4.1.2 20060624 (prerelease) [gcc-4_1-branch revision 114976 clean]
=== libffi tests ===
Running target unix
=== libffi Summary ===
# of expected passes 228
# of unsupported tests 2
=== libjava tests ===
Running target unix
=== libjava Summary ===
# of expected passes 4053
# of expected failures 10
# of untested testcases 8
=== libmudflap tests ===
Running target unix
=== libmudflap Summary ===
# of expected passes 1799
=== libstdc++ tests ===
Running target unix
XPASS: 26_numerics/cmath/c99_classification_macros_c.cc (test for excess errors)
=== libstdc++ Summary ===
# of expected passes 1632
# of unexpected successes 1
# of expected failures 6
# of unsupported tests 4
Compiler version: 4.1.2 20060624 (prerelease) [gcc-4_1-branch revision 114976 clean]
Platform: i686-pc-linux-gnu
configure flags: --enable-clocale=gnu --with-system-zlib --with-demangler-in-ld --enable-shared --enable-threads=posix --enable-haifa --enable-checking=assert --prefix=/usr/gcc-4.1 --with-local-prefix=/usr/local --enable-languages=c,c++,fortran,java,objc