This is the mail archive of the gcc-testresults@gcc.gnu.org mailing list for the GCC project.


Index Nav: [Date Index] [Subject Index] [Author Index] [Thread Index]
Message Nav: [Date Prev] [Date Next] [Thread Prev] [Thread Next]
Other format: [Raw text]

Results for 4.1.0 20060226 (prerelease) testsuite on x86_64-redhat-linux-gnu


LAST_UPDATED: Sun Feb 26 23:51:36 UTC 2006 (revision 111460)

Native configuration is x86_64-redhat-linux-gnu

=== gcc tests ===


Running target unix

=== gcc Summary ===

# of expected passes 38013
# of expected failures 100
# of untested testcases 28
# of unsupported tests 357
/home/testbot/bootstrap/000844/bld/gcc/xgcc version 4.1.0 20060226 (prerelease)

=== gfortran tests ===


Running target unix

=== gfortran Summary ===

# of expected passes 11652
# of expected failures 18
# of unsupported tests 16
/home/testbot/bootstrap/000844/bld/gcc/testsuite/../gfortran version 4.1.0 20060226 (prerelease)

=== g++ tests ===


Running target unix
XPASS: g++.dg/tree-ssa/pr14814.C scan-tree-dump-times &this 0
XPASS: g++.old-deja/g++.other/init5.C execution test

=== g++ Summary ===

# of expected passes 11921
# of unexpected successes 2
# of expected failures 66
# of unsupported tests 95
/home/testbot/bootstrap/000844/bld/gcc/testsuite/../g++ version 4.1.0 20060226 (prerelease)

=== objc tests ===


Running target unix

=== objc Summary ===

# of expected passes 1684
# of unsupported tests 22
/home/testbot/bootstrap/000844/bld/gcc/xgcc version 4.1.0 20060226 (prerelease)

=== libffi tests ===


Running target unix

=== libffi Summary ===

# of expected passes 228
# of unsupported tests 2
=== libjava tests ===


Running target unix

=== libjava Summary ===

# of expected passes 4011
# of expected failures 10
# of untested testcases 8
=== libmudflap tests ===


Running target unix

=== libmudflap Summary ===

# of expected passes 1789
=== libstdc++ tests ===


Running target unix
XPASS: 26_numerics/cmath/c99_classification_macros_c.cc (test for excess errors)
XPASS: 27_io/fpos/14320-1.cc execution test

=== libstdc++ Summary ===

# of expected passes 4029
# of unexpected successes 2
# of expected failures 11

Compiler version: 4.1.0 20060226 (prerelease)
Platform: x86_64-redhat-linux-gnu
configure flags: --prefix=/home/testbot/bootstrap/000844/usr --program-suffix=-41 -enable-shared --enable-threads=posix --enable-checking --with-system-zlib --enable-__cxa_atexit --host=x86_64-redhat-linux --enable-languages=c,c++,fortran,java,objc


Index Nav: [Date Index] [Subject Index] [Author Index] [Thread Index]
Message Nav: [Date Prev] [Date Next] [Thread Prev] [Thread Next]