This is the mail archive of the gcc-testresults@gcc.gnu.org mailing list for the GCC project.


Index Nav: [Date Index] [Subject Index] [Author Index] [Thread Index]
Message Nav: [Date Prev] [Date Next] [Thread Prev] [Thread Next]
Other format: [Raw text]

Results for 4.1.0 20060222 (prerelease) testsuite on i686-pc-linux-gnu


This is a Red Hat Enterprise (GNU/)Linux WS release 3 system,
running on a dual 2.2 GHz Intel Xeon system.

kernel: 2.4.21-4.EL (from Red Hat)
glibc: 2.3.2-95.3 (from Red Hat)
binutils: 2.14.90.0.4-26 (from Red Hat)

Only C, C++, ObjC are tested (no Java).
LAST_UPDATED: Wed Feb 22 08:36:42 UTC 2006 (revision 111359)

Native configuration is i686-pc-linux-gnu

		=== g++ tests ===


Running target unix
XPASS: g++.dg/tree-ssa/pr14814.C scan-tree-dump-times &this 0

		=== g++ Summary ===

# of expected passes		12006
# of unexpected successes	1
# of expected failures		67
# of unsupported tests		66
/var/tmp/gccbuild/4_1_branch/gcc/testsuite/../g++  version 4.1.0 20060222 (prerelease)

		=== gcc tests ===


Running target unix

		=== gcc Summary ===

# of expected passes		38155
# of expected failures		101
# of untested testcases		28
# of unsupported tests		243
/var/tmp/gccbuild/4_1_branch/gcc/xgcc  version 4.1.0 20060222 (prerelease)

		=== objc tests ===


Running target unix

		=== objc Summary ===

# of expected passes		1684
# of unsupported tests		22
/var/tmp/gccbuild/4_1_branch/gcc/xgcc  version 4.1.0 20060222 (prerelease)

		=== libmudflap tests ===


Running target unix

		=== libmudflap Summary ===

# of expected passes		1789
		=== libstdc++ tests ===


Running target unix
XPASS: 26_numerics/cmath/c99_classification_macros_c.cc (test for excess errors)

		=== libstdc++ Summary ===

# of expected passes		1599
# of unexpected successes	1
# of expected failures		6
# of unsupported tests		4

Compiler version: 4.1.0 20060222 (prerelease) 
Platform: i686-pc-linux-gnu
configure flags: --prefix=/usr/localdisk/gcc-cvs/4_1_branch --with-gnu-as --with-as=/usr/bin/as --with-gnu-ld --with-ld=/usr/bin/ld --enable-languages=c,c++,objc


Index Nav: [Date Index] [Subject Index] [Author Index] [Thread Index]
Message Nav: [Date Prev] [Date Next] [Thread Prev] [Thread Next]