This is the mail archive of the
gcc-testresults@gcc.gnu.org
mailing list for the GCC project.
Results for 4.1.0 20060127 (prerelease) testsuite on powerpc-apple-darwin7.9.0
- From: william.franck <william dot franck at oceasys dot net>
- To: gcc-testresults at gcc dot gnu dot org
- Cc: Laurent GUERBY <laurent at guerby dot net>
- Date: Thu, 2 Feb 2006 22:20:21 +0100
- Subject: Results for 4.1.0 20060127 (prerelease) testsuite on powerpc-apple-darwin7.9.0
with :
MacOS-X 10.3.9 on a Apple "Silver" PowerMac G4 (1,2Ghz)
Apple Computer, Inc. version cctools-590.12~obj
gcc (GCC) 3.3 20040913 (GNAT for Mac OS X build 1650)
<x-tad-bigger>configure flags:</x-tad-bigger>
../gcc-4.1-20060127/configure --program-suffix=-4.1.0 --enable-languages=c,ada --disable-nls
Successfull bootstrap only with languages=c,ada
( C++ fails )
Ada testsuite === acats Summary ===
# of expected passes 2315
# of unexpected failures 1
*** FAILURES: c250002
... Seems MacOS-X do not appreciate filenames like "c250002_·.ads"
Chears,
William