This is the mail archive of the
gcc-testresults@gcc.gnu.org
mailing list for the GCC project.
Results for 4.1.0 20060123 (prerelease) testsuite on x86_64-unknown-linux-gnu [r110147]
- From: Laurent GUERBY <laurent at guerby dot net>
- To: gcc-test <gcc-testresults at gcc dot gnu dot org>
- Date: Tue, 24 Jan 2006 20:05:33 +0100
- Subject: Results for 4.1.0 20060123 (prerelease) testsuite on x86_64-unknown-linux-gnu [r110147]
LAST_UPDATED: Mon Jan 23 22:56:55 UTC 2006 (revision 110147)
=== acats tests ===
=== acats Summary ===
# of expected passes 2316
# of unexpected failures 0
Native configuration is x86_64-unknown-linux-gnu
=== gcc tests ===
Running target unix
=== gcc Summary ===
# of expected passes 37934
# of expected failures 100
# of untested testcases 28
# of unsupported tests 347
/home/guerby/work/gcc/build/build-4.1-20060124T000227/gcc/xgcc version 4.1.0 20060123 (prerelease)
Compiler version: 4.1.0 20060123 (prerelease)
Platform: x86_64-unknown-linux-gnu
configure flags: --prefix=/home/guerby/work/gcc/install/install-4.1-20060124T000227 --enable-__cxa_atexit --disable-nls --enable-threads=posix --disable-multilib --enable-checking --enable-languages=c,ada