This is the mail archive of the
gcc-testresults@gcc.gnu.org
mailing list for the GCC project.
Results for 4.1.0 20050405 (experimental) testsuite on i686-pc-linux-gnu
- From: CodeSourcery Automatic Testing System <gcc at codesourcery dot com>
- To: gcc-testresults at gcc dot gnu dot org
- Date: Tue, 5 Apr 2005 03:27:15 -0700
- Subject: Results for 4.1.0 20050405 (experimental) testsuite on i686-pc-linux-gnu
LAST_UPDATED: Tue Apr 5 08:44:27 UTC 2005
Native configuration is i686-pc-linux-gnu
=== g++ tests ===
Running target unix
=== g++ Summary ===
# of expected passes 10990
# of expected failures 66
# of unsupported tests 58
/scratch/gcc/nightly-2005-04-05-mainline/i686-pc-linux-gnu/build_gcc/build/gcc/testsuite/../g++ version 4.1.0 20050405 (experimental)
=== gcc tests ===
Running target unix
XPASS: gcc.dg/vect/vect-22.c scan-tree-dump-times vectorized 3 loops 1
XPASS: gcc.dg/vect/vect-67.c scan-tree-dump-times vectorized 1 loops 1
=== gcc Summary ===
# of expected passes 34141
# of unexpected successes 2
# of expected failures 99
# of untested testcases 28
# of unsupported tests 330
/scratch/gcc/nightly-2005-04-05-mainline/i686-pc-linux-gnu/build_gcc/build/gcc/xgcc version 4.1.0 20050405 (experimental)
=== libstdc++ tests ===
Running target unix
XPASS: 26_numerics/cmath/c99_classification_macros_c.cc (test for excess errors)
=== libstdc++ Summary ===
# of expected passes 3629
# of unexpected successes 1
# of expected failures 8
Compiler version: 4.1.0 20050405 (experimental)
Platform: i686-pc-linux-gnu
configure flags: --prefix=/home/gcc/scratch/nightly-2005-04-05-mainline/i686-pc-linux-gnu/build_gcc/install --enable-threads --disable-libmudflap --enable-languages=c,c++