This is the mail archive of the
gcc-testresults@gcc.gnu.org
mailing list for the GCC project.
Results for 3.5-tree-ssa 20040401 (merged 20040331) objc testsuite on i686-pc-linux-gnu
- From: Andrew Pinski <pinskia at physics dot uc dot edu>
- To: gcc-testresults at gcc dot gnu dot org
- Date: Thu, 1 Apr 2004 16:09:45 -0500
- Subject: Results for 3.5-tree-ssa 20040401 (merged 20040331) objc testsuite on i686-pc-linux-gnu
LAST_UPDATED:
Native configuration is i686-pc-linux-gnu
=== objc tests ===
Running target unix
=== objc Summary ===
# of expected passes 1339
# of unsupported tests 8
/home/gates/pinskia/src/gnu/gcc_tree-ssa/src/objdir.linux/gcc/xgcc version 3.5-tree-ssa 20040401 (merged 20040331)
Compiler version: 3.5-tree-ssa 20040401 (merged 20040331) objc
Platform: i686-pc-linux-gnu
configure flags: --disable-nls --verbose --enable-cpp --enable-languages=objc,c,c++ --prefix=/home/gates/pinskia/linux-tree-ssa --enable-shared,;t t