This is the mail archive of the
gcc-testresults@gcc.gnu.org
mailing list for the GCC project.
Results for gcc gcc testsuite on i686-pc-linux-gnu
- From: Andrew Pinski <pinskia at physics dot uc dot edu>
- To: gcc-testresults at gcc dot gnu dot org
- Date: Tue, 22 Jul 2003 16:48:34 -0400
- Subject: Results for gcc gcc testsuite on i686-pc-linux-gnu
LAST_UPDATED: Sat Jul 19 04:01:14 UTC 2003
Native configuration is i686-pc-linux-gnu
=== gcc tests ===
Running target unix
=== libstdc++-v3 check-abi Summary ===
# of added symbols: 212
# of missing symbols: 238
# of incompatible symbols: 242
Compiler version: gcc gcc
Platform: i686-pc-linux-gnu
configure flags: --target=i686-pc-linux-gnu --host=i686-pc-linux-gnu --enable-__cxa_atexit --enable-languages=java,objc,f77 --prefix=/home/gates/pinskia/linux --enable-threads=posix --enable-shared