This is the mail archive of the
gcc-testresults@gcc.gnu.org
mailing list for the GCC project.
Results for [trunk] gcc libstdc++-v3 testsuite on i686-pc-linux-gnu
- From: "Autocrasher" <autocrasher at devphil dot com>
- To: gcc-testresults at gcc dot gnu dot org
- Date: 9 Jul 2003 22:52:13 -0000
- Subject: Results for [trunk] gcc libstdc++-v3 testsuite on i686-pc-linux-gnu
The configure/build/test log and libstdc++-v3 regression plots can be
found at http://www.devphil.com/build/
Host was specified as athlon_mp-pc-linux-gnu.
This particular run used standard (previously installed) binutils.
- The Autocrasher (Phil's Builder Bot, version 2.0)
LAST_UPDATED: Mon Feb 3 09:55:58 UTC 2003
=== libstdc++-v3 check-abi Summary ===
# of added symbols: 131
# of missing symbols: 224
# of incompatible symbols: 228
Native configuration is i686-pc-linux-gnu
=== libstdc++-v3 tests ===
Running target unix
XPASS: 26_numerics/c99_classification_macros_c.cc (test for excess errors)
=== libstdc++-v3 Summary ===
# of expected passes 2007
# of unexpected successes 1
# of expected failures 9
Compiler version: gcc libstdc++-v3
Platform: i686-pc-linux-gnu
configure flags: --prefix=/mnt/build/install-2003-07-09-trunk --host=athlon_mp-pc-linux-gnu --enable-threads=posix --enable-__cxa_atexit --enable-languages=c++ --with-dwarf2 --enable-cxx-flags=-march=athlon-mp