This is the mail archive of the
gcc-testresults@gcc.gnu.org
mailing list for the GCC project.
Results for gcc testsuite on sparc64-unknown-freebsdelf5.1
- From: Loren James Rittle <ljrittle at FreeBSD dot org>
- To: gcc-testresults at gcc dot gnu dot org, ljrittle at FreeBSD dot org,obrien at freebsd dot org
- Date: Tue, 1 Jul 2003 13:55:21 -0700 (PDT)
- Subject: Results for gcc testsuite on sparc64-unknown-freebsdelf5.1
Using gmake with srcdir configuration on panther (see key)
NOTE: Failed to install without error
LAST_UPDATED:
Native configuration is sparc64-unknown-freebsdelf5.1
=== g++ tests ===
Running target unix
=== g++ Summary ===
=== g77 tests ===
Running target unix
=== g77 Summary ===
=== objc tests ===
Running target unix
=== objc Summary ===
Compiler version: gcc
Platform: sparc64-unknown-freebsdelf5.1
configure flags: --host=sparc64-unknown-freebsd5.1 --prefix=/home/ljrittle/panther/tmp/install-panther --with-gnu-as --with-as=/usr/bin/as --with-gnu-ld --with-ld=/usr/bin/ld
BOOT_CFLAGS=-g -O2
Key: gmake is GNU make
make is BSD make as shipped on sparc64-unknown-freebsd5.1
srcdir means in-source configuration was done within the gcc source tree
objdir means out-source configuration was done within a fresh directory
ref4 (3.3) and ref5 (mainline) attempt to build gcc twice daily;
once for srcdir configuration and once for objdir configuration;
odd number days use GNU make; even days use BSD make; missing
reports infer breakage; partial reports are made when bootstap
completes in gcc but fails in a support library.
beast (3.3) builds gcc once daily using gmake with objdir conf.
See http://people.freebsd.org/~ljrittle/daily-gcc-bootstrap-reports
for all related transcript logs and log.sent files (not staged
until after all daily bootstraps for a machine complete).