This is the mail archive of the
gcc-testresults@gcc.gnu.org
mailing list for the GCC project.
Results for 3.1.1 testsuite on sparc-sun-solaris2.7
- From: Carl Eugen Hoyos <ceh at cg dot tuwien dot ac dot at>
- To: gcc-testresults at gcc dot gnu dot org
- Date: Wed, 14 Aug 2002 00:34:28 +0200
- Subject: Results for 3.1.1 testsuite on sparc-sun-solaris2.7
I compiled gcc-3.1.1 (C and Objective C) on a quadruple 400MHz UltraSparc
Sun Workstation running solaris2.7
LAST_UPDATED:
Native configuration is sparc-sun-solaris2.7
=== gcc tests ===
Running target unix
=== gcc Summary ===
# of expected passes 18419
# of expected failures 66
# of unsupported tests 110
/homecg/people/ceh/Projects/gcc/test/solarisgcc/gcc/xgcc version 3.1.1
=== objc tests ===
Running target unix
=== objc Summary ===
# of expected passes 1035
# of expected failures 6
/homecg/people/ceh/Projects/gcc/test/solarisgcc/gcc/xgcc version 3.1.1
Compiler version: 3.1.1
Platform: sparc-sun-solaris2.7
configure flags: --host=sparc-sun-solaris2.7 --prefix=/homecg/people/ceh/solaris2.7/gcc-3.1.1 --with-as=/homecg/people/ceh/solaris2.7/bin/gas --with-ld=/homecg/people/ceh/solaris2.7/bin/gld --disable-multilib