This is the mail archive of the gcc-testresults@gcc.gnu.org mailing list for the GCC project.


Index Nav: [Date Index] [Subject Index] [Author Index] [Thread Index]
Message Nav: [Date Prev] [Date Next] [Thread Prev] [Thread Next]

Re: Results for 2.96 20000207 (experimental) testsuite on powerpc-ibm-aix4.1.5.0


On Feb 11, 2000, Alexandre Oliva <oliva@lsd.ic.unicamp.br> wrote:

> 		=== g++ Summary ===

> # of unexpected failures	869

FIY, many of these are caused by the lack of `extern "C"' in standard
headers.

-- 
Alexandre Oliva http://www.ic.unicamp.br/~oliva/ IC-Unicamp, Bra[sz]il
aoliva@{redhat, cygnus}.com        Cygnus Solutions, a Red Hat company
aoliva@{acm, computer}.org      Free Software Developer and Evangelist
oliva@{lsd.ic.unicamp.br, {gnu, kaffe, samba}.org, guarana.{org, com}}


Index Nav: [Date Index] [Subject Index] [Author Index] [Thread Index]
Message Nav: [Date Prev] [Date Next] [Thread Prev] [Thread Next]