This is the mail archive of the
gcc-testresults@gcc.gnu.org
mailing list for the GCC project.
Results for haifa-enabled gcc testsuite on rs6000-ibm-aix4.1.5.0
- To: gcc-testresults@gcc.gnu.org
- Subject: Results for haifa-enabled gcc testsuite on rs6000-ibm-aix4.1.5.0
- From: "David W. Schuler" <schuld@btv.ibm.com>
- Date: Tue, 17 Aug 1999 08:58:13 -0400
Native configuration is rs6000-ibm-aix4.1.5.0
=== libio tests ===
Running target unix
=== libio Summary ===
# of expected passes 40
=== libstdc++ tests ===
Running target unix
=== libstdc++ Summary ===
# of expected passes 30
=== gcc tests ===
Running target unix
=== gcc Summary ===
=== g++ tests ===
Running target unix
=== g++ Summary ===
=== g77 tests ===
Running target unix
=== g77 Summary ===
=== objc tests ===
Running target unix
=== objc Summary ===
Compiler version: haifa-enabled gcc
Platform: rs6000-ibm-aix4.1.5.0
configure flags: --with-gcc-version-trigger=/usr/local/src/gnu/gcc/gcc/version.c --host=rs6000-ibm-aix4.1.5.0 --prefix=/afs/btv.ibm.com/data/n37v/software/gnu-aix41 --with-cpu=common --enable-haifa --enable-multilib --norecursion
Counting all warnings,
there are 3 warnings in stage3 of this bootstrap.
Number of warnings per file:
2 cxxmain.c
1 ../../../gcc/gcc/f/com.c
Number of warning types:
2 assignment discards qualifiers from pointer target type
1 unused parameter ???