This is the mail archive of the gcc-testresults@gcc.gnu.org mailing list for the GCC project.


Index Nav: [Date Index] [Subject Index] [Author Index] [Thread Index]
Message Nav: [Date Prev] [Date Next] [Thread Prev] [Thread Next]
Other format: [Raw text]

Results for 5.2.1 20150723 [gcc-5-branch revision 226096] (GCC) testsuite on x86_64-unknown-linux-gnu


Native configuration is x86_64-unknown-linux-gnu

		=== gcc tests ===


Running target unix

		=== gcc Summary for unix ===

# of expected passes		118733
# of expected failures		267
# of unsupported tests		1857

Running target unix/-m32

		=== gcc Summary for unix/-m32 ===

# of expected passes		113365
# of expected failures		266
# of unsupported tests		1638

		=== gcc Summary ===

# of expected passes		232098
# of expected failures		533
# of unsupported tests		3495
/export/gnu/import/git/gcc-test/bld/gcc/xgcc  version 5.2.1 20150723 [gcc-5-branch revision 226096] (GCC) 

		=== gfortran tests ===


Running target unix

		=== gfortran Summary for unix ===

# of expected passes		48651
# of expected failures		79
# of unsupported tests		71

Running target unix/-m32

		=== gfortran Summary for unix/-m32 ===

# of expected passes		48364
# of expected failures		79
# of unsupported tests		209

		=== gfortran Summary ===

# of expected passes		97015
# of expected failures		158
# of unsupported tests		280
/export/gnu/import/git/gcc-test/bld/gcc/testsuite/gfortran/../../gfortran  version 5.2.1 20150723 [gcc-5-branch revision 226096] (GCC) 

		=== g++ tests ===


Running target unix
XPASS: g++.dg/tls/thread_local-order2.C  -std=c++11 execution test
XPASS: g++.dg/tls/thread_local-order2.C  -std=c++14 execution test

		=== g++ Summary for unix ===

# of expected passes		93575
# of unexpected successes	2
# of expected failures		339
# of unsupported tests		3703

Running target unix/-m32
XPASS: g++.dg/tls/thread_local-order2.C  -std=c++11 execution test
XPASS: g++.dg/tls/thread_local-order2.C  -std=c++14 execution test

		=== g++ Summary for unix/-m32 ===

# of expected passes		92008
# of unexpected successes	2
# of expected failures		339
# of unsupported tests		3446

		=== g++ Summary ===

# of expected passes		185583
# of unexpected successes	4
# of expected failures		678
# of unsupported tests		7149
/export/gnu/import/git/gcc-test/bld/gcc/testsuite/g++/../../xg++  version 5.2.1 20150723 [gcc-5-branch revision 226096] (GCC) 

		=== objc tests ===


Running target unix

		=== objc Summary for unix ===

# of expected passes		3010
# of expected failures		6
# of unsupported tests		74

Running target unix/-m32

		=== objc Summary for unix/-m32 ===

# of expected passes		3010
# of expected failures		6
# of unsupported tests		74

		=== objc Summary ===

# of expected passes		6020
# of expected failures		12
# of unsupported tests		148
/export/gnu/import/git/gcc-test/bld/gcc/xgcc  version 5.2.1 20150723 [gcc-5-branch revision 226096] (GCC) 

		=== boehm-gc tests ===


Running target unix/-m32

		=== boehm-gc Summary for unix/-m32 ===

# of expected passes		12
# of unsupported tests		1

Running target unix

		=== boehm-gc Summary for unix ===

# of expected passes		12
# of unsupported tests		1

		=== boehm-gc Summary ===

# of expected passes		24
# of unsupported tests		2
		=== libatomic tests ===


Running target unix/-m32

		=== libatomic Summary for unix/-m32 ===

# of expected passes		44
# of unsupported tests		5

Running target unix

		=== libatomic Summary for unix ===

# of expected passes		54

		=== libatomic Summary ===

# of expected passes		98
# of unsupported tests		5
		=== libffi tests ===


Running target unix/-m32

		=== libffi Summary for unix/-m32 ===

# of expected passes		2439
# of unsupported tests		30

Running target unix

		=== libffi Summary for unix ===

# of expected passes		1914
# of unsupported tests		30

		=== libffi Summary ===

# of expected passes		4353
# of unsupported tests		60
		=== libgomp tests ===


Running target unix/-m32

		=== libgomp Summary for unix/-m32 ===

# of expected passes		5875
# of unsupported tests		254

Running target unix

		=== libgomp Summary for unix ===

# of expected passes		5875
# of unsupported tests		254

		=== libgomp Summary ===

# of expected passes		11750
# of unsupported tests		508
		=== libitm tests ===


Running target unix/-m32

		=== libitm Summary for unix/-m32 ===

# of expected passes		26
# of expected failures		3
# of unsupported tests		1

Running target unix

		=== libitm Summary for unix ===

# of expected passes		26
# of expected failures		3
# of unsupported tests		1

		=== libitm Summary ===

# of expected passes		52
# of expected failures		6
# of unsupported tests		2
		=== libjava tests ===


Running target unix/-m32

		=== libjava Summary for unix/-m32 ===

# of expected passes		2582
# of expected failures		4

Running target unix

		=== libjava Summary for unix ===

# of expected passes		2582
# of expected failures		4

		=== libjava Summary ===

# of expected passes		5164
# of expected failures		8
		=== libstdc++ tests ===


Running target unix
XPASS: 26_numerics/headers/cmath/c_math.cc execution test

		=== libstdc++ Summary for unix ===

# of expected passes		4649
# of unexpected successes	1
# of expected failures		61
# of unsupported tests		230

Running target unix/-m32

		=== libstdc++ Summary for unix/-m32 ===

# of expected passes		10591
# of expected failures		65
# of unsupported tests		226

		=== libstdc++ Summary ===

# of expected passes		15240
# of unexpected successes	1
# of expected failures		126
# of unsupported tests		456

Compiler version: 5.2.1 20150723 [gcc-5-branch revision 226096] (GCC) 
Platform: x86_64-unknown-linux-gnu
configure flags: --prefix=/usr/5.2.1 --enable-clocale=gnu --with-system-zlib --enable-shared --with-demangler-in-ld --enable-libmpx --with-fpmath=sse --enable-languages=c,c++,fortran,java,lto,objc


Index Nav: [Date Index] [Subject Index] [Author Index] [Thread Index]
Message Nav: [Date Prev] [Date Next] [Thread Prev] [Thread Next]