This is the mail archive of the gcc-testresults@gcc.gnu.org mailing list for the GCC project.


Index Nav: [Date Index] [Subject Index] [Author Index] [Thread Index]
Message Nav: [Date Prev] [Date Next] [Thread Prev] [Thread Next]
Other format: [Raw text]

Results for 4.9.0 20140418 (prerelease) [gcc-4_9-branch revision 209514] testsuite on hppa-unknown-linux-gnu


LAST_UPDATED: Fri Apr 18 02:41:32 UTC 2014 (revision 209514)

		=== acats tests ===

		=== acats Summary ===
# of expected passes		2320
# of unexpected failures	0
Native configuration is hppa-unknown-linux-gnu

		=== gcc tests ===


Running target unix

		=== gcc Summary ===

# of expected passes		42102
# of unsupported tests		82
/home/dave/gnu/gcc/objdir/gcc/xgcc  version 4.9.0 20140418 (prerelease) [gcc-4_9-branch revision 209514] (GCC) 

		=== gnat tests ===


Running target unix

		=== gnat Summary ===

# of expected passes		1209
# of expected failures		18
# of unsupported tests		10
/home/dave/gnu/gcc/objdir/gcc/gnatmake version 4.9.0 20140418 (prerelease) [gcc-4_9-branch revision 209514]


Compiler version: 4.9.0 20140418 (prerelease) [gcc-4_9-branch revision 209514] 
Platform: hppa-unknown-linux-gnu
configure flags: --with-gnu-as --with-gnu-ld --enable-shared --enable-multiarch --enable-linker-build-id --build=hppa-linux-gnu --host=hppa-linux-gnu --target=hppa-linux-gnu --prefix=/home/dave/opt/gnu/gcc/gcc-4.9 --with-local-prefix=/home/dave/opt/gnu --enable-threads=posix --enable-__cxa_atexit --build=hppa-linux-gnu --enable-clocale=gnu --enable-java-gc=boehm --enable-languages=c,c++,objc,fortran,obj-c++,java,ada,lto


Index Nav: [Date Index] [Subject Index] [Author Index] [Thread Index]
Message Nav: [Date Prev] [Date Next] [Thread Prev] [Thread Next]