This is the mail archive of the
gcc-testresults@gcc.gnu.org
mailing list for the GCC project.
Results for 4.4.7 (GCC) testsuite on hppa64-hp-hpux11.11
- From: John David Anglin <dave at hiauly3 dot hia dot nrc dot ca>
- To: dave at hiauly3 dot hia dot nrc dot ca, gcc-testresults at gcc dot gnu dot org
- Date: Wed, 22 Aug 2012 11:07:47 -0400 (EDT)
- Subject: Results for 4.4.7 (GCC) testsuite on hppa64-hp-hpux11.11
LAST_UPDATED: Tue Aug 21 12:39:14 UTC 2012 (revision 190560)
Native configuration is hppa64-hp-hpux11.11
=== g++ tests ===
Running target unix
=== g++ Summary ===
# of expected passes 18736
# of expected failures 161
# of unsupported tests 219
/mnt/gnu/gcc/obj64dir/gcc/testsuite/g++/../../g++ version 4.4.7 (GCC)
=== gcc tests ===
Running target unix
XPASS: gcc.dg/funcorder.c scan-assembler-not link_error,%r
=== gcc Summary ===
# of expected passes 49640
# of unexpected successes 1
# of expected failures 117
# of unsupported tests 641
/mnt/gnu/gcc/obj64dir/gcc/xgcc version 4.4.7 (GCC)
=== gfortran tests ===
Running target unix
=== gfortran Summary ===
# of expected passes 29425
# of expected failures 9
# of unsupported tests 272
/mnt/gnu/gcc/obj64dir/gcc/testsuite/gfortran/../../gfortran version 4.4.7 (GCC)
=== obj-c++ tests ===
Running target unix
XPASS: obj-c++.dg/comp-types-10.mm (test for excess errors)
UNRESOLVED: obj-c++.dg/lookup-2.mm compilation failed to produce executable
UNRESOLVED: obj-c++.dg/try-catch-2.mm compilation failed to produce executable
UNRESOLVED: obj-c++.dg/try-catch-9.mm compilation failed to produce executable
=== obj-c++ Summary ===
# of expected passes 425
# of unexpected successes 1
# of expected failures 20
# of unresolved testcases 3
# of unsupported tests 13
/mnt/gnu/gcc/obj64dir/gcc/testsuite/obj-c++/../../g++ version 4.4.7 (GCC)
=== objc tests ===
Running target unix
=== objc Summary ===
# of expected passes 1864
# of expected failures 15
# of unsupported tests 25
/mnt/gnu/gcc/obj64dir/gcc/xgcc version 4.4.7 (GCC)
=== libgomp tests ===
Running target unix
=== libgomp Summary ===
# of expected passes 2522
# of unsupported tests 9
=== libstdc++ tests ===
Running target unix
=== libstdc++ Summary ===
# of expected passes 5486
# of expected failures 72
# of unsupported tests 530
Compiler version: 4.4.7 (GCC)
Platform: hppa64-hp-hpux11.11
configure flags: --with-gnu-as --with-as=/opt/gnu64/bin/as --with-ld=/usr/ccs/bin/ld --enable-shared --with-local-prefix=/opt/gnu64 --prefix=/opt/gnu64/gcc/gcc-4.4.7 --build=hppa64-hp-hpux11.11 --enable-threads=posix --disable-nls --with-gmp=/opt/gnu64/gcc/gcc-4.4.7 --enable-languages=c,c++,objc,obj-c++,fortran