This is the mail archive of the gcc-testresults@gcc.gnu.org mailing list for the GCC project.


Index Nav: [Date Index] [Subject Index] [Author Index] [Thread Index]
Message Nav: [Date Prev] [Date Next] [Thread Prev] [Thread Next]
Other format: [Raw text]

Results for 4.4.6 20110408 (prerelease) [gcc-4_4-branch revision 172152] (GCC) testsuite on hppa64-hp-hpux11.11


LAST_UPDATED: Sat Apr  9 16:07:27 UTC 2011 (revision 172152)

Native configuration is hppa64-hp-hpux11.11

		=== g++ tests ===


Running target unix

		=== g++ Summary ===

# of expected passes		18697
# of expected failures		161
# of unsupported tests		211
/mnt/gnu/gcc/objdir-test/gcc/testsuite/g++/../../g++  version 4.4.6 20110408 (prerelease) [gcc-4_4-branch revision 172152] (GCC) 

		=== gcc tests ===


Running target unix
XPASS: gcc.dg/funcorder.c scan-assembler-not link_error,%r

		=== gcc Summary ===

# of expected passes		49515
# of unexpected successes	1
# of expected failures		117
# of unsupported tests		641
/mnt/gnu/gcc/objdir-test/gcc/xgcc  version 4.4.6 20110408 (prerelease) [gcc-4_4-branch revision 172152] (GCC) 

		=== gfortran tests ===


Running target unix

		=== gfortran Summary ===

# of expected passes		29390
# of expected failures		9
# of unsupported tests		272
/mnt/gnu/gcc/objdir-test/gcc/testsuite/gfortran/../../gfortran  version 4.4.6 20110408 (prerelease) [gcc-4_4-branch revision 172152] (GCC) 

		=== obj-c++ tests ===


Running target unix
XPASS: obj-c++.dg/comp-types-10.mm (test for excess errors)
WARNING: obj-c++.dg/lookup-2.mm compilation failed to produce executable
WARNING: obj-c++.dg/try-catch-2.mm compilation failed to produce executable
WARNING: obj-c++.dg/try-catch-9.mm compilation failed to produce executable

		=== obj-c++ Summary ===

# of expected passes		425
# of unexpected successes	1
# of expected failures		20
# of unsupported tests		13
/mnt/gnu/gcc/objdir-test/gcc/testsuite/obj-c++/../../g++  version 4.4.6 20110408 (prerelease) [gcc-4_4-branch revision 172152] (GCC) 

		=== objc tests ===


Running target unix

		=== objc Summary ===

# of expected passes		1864
# of expected failures		15
# of unsupported tests		25
/mnt/gnu/gcc/objdir-test/gcc/xgcc  version 4.4.6 20110408 (prerelease) [gcc-4_4-branch revision 172152] (GCC) 

		=== libgomp tests ===


Running target unix

		=== libgomp Summary ===

# of expected passes		2506
# of unsupported tests		9
		=== libstdc++ tests ===


Running target unix

		=== libstdc++ Summary ===

# of expected passes		5486
# of expected failures		72
# of unsupported tests		530

Compiler version: 4.4.6 20110408 (prerelease) [gcc-4_4-branch revision 172152] (GCC) 
Platform: hppa64-hp-hpux11.11
configure flags: --with-gnu-as --with-as=/opt/gnu64/bin/as --with-ld=/usr/ccs/bin/ld --enable-shared --with-local-prefix=/opt/gnu64 --prefix=/nowhere --build=hppa64-hp-hpux11.11 --enable-threads=posix --disable-nls --with-gmp=/opt/gnu64/gcc/gcc-4.6 --enable-languages=c,c++,objc,obj-c++,fortran


Index Nav: [Date Index] [Subject Index] [Author Index] [Thread Index]
Message Nav: [Date Prev] [Date Next] [Thread Prev] [Thread Next]