This is the mail archive of the gcc-testresults@gcc.gnu.org mailing list for the GCC project.


Index Nav: [Date Index] [Subject Index] [Author Index] [Thread Index]
Message Nav: [Date Prev] [Date Next] [Thread Prev] [Thread Next]
Other format: [Raw text]

ACATS results for 20110304 (experimental) [trunk revision 170678] on sparc64-rtems4.11


HOST: x86_64-unknown-linux-gnu
sparc64-rtems4.11-gcc (GCC) 4.6.0 20110304 (experimental) [trunk revision 170678]

=== acats Summary ===
# of expected passes 2318
# of unexpected failures 1
# of unsupported tests 3

ce2108f - simulator does not have persistent files
ce2108h - simulator does not have persistent files
ce3112d - simulator does not have persistent files
cd2a83c - unknown reason for failure

======= Logs for failed tests ======


Index Nav: [Date Index] [Subject Index] [Author Index] [Thread Index]
Message Nav: [Date Prev] [Date Next] [Thread Prev] [Thread Next]