This is the mail archive of the
gcc-testresults@gcc.gnu.org
mailing list for the GCC project.
Results for gcc acats testsuite on
- From: Andreas Jaeger <aj at suse dot de>
- To: gcc-testresults at gcc dot gnu dot org
- Date: Wed, 29 Sep 2010 19:02:05 +0200
- Subject: Results for gcc acats testsuite on
Bootstrap and regtesting on x86_64-suse-linux-gnu.
SVN sources: mainline.
LAST_UPDATED: Wed Sep 29 16:10:31 UTC 2010 (revision 164725)
=== acats tests ===
=== acats Summary ===
# of expected passes 2321
# of unexpected failures 0
Compiler version: gcc acats
Platform:
configure flags: --prefix=/opt/gcc/4.6-devel --enable-checking=yes,rtl --enable-gold --enable-lto --enable-decimal-float --enable-threads=posix --enable-clocale=gnu --enable-ssp --disable-libssp --enable-libstdcxx-allocator=new --enable-__cxa_atexit --enable-shared --enable-languages=c,c++,ada,java,fortran,objc --with-system-zlib x86_64-suse-linux-gnu
Version of binutils: GNU ld (GNU Binutils; openSUSE Factory) 2.20.0.20100122-11
Version of glibc (/lib/libc.so.6): 2.11.2 (20100531)
Version of glibc (/lib64/libc.so.6): 2.11.2 (20100531)