This is the mail archive of the
gcc-testresults@gcc.gnu.org
mailing list for the GCC project.
Results for gcc gnat testsuite on x86_64-unknown-linux-gnu
- From: Laurent GUERBY gcc17 <guerby at gcc17 dot fsffrance dot org>
- To: gcc-testresults at gcc dot gnu dot org
- Date: Mon, 30 Aug 2010 00:23:17 +0200
- Subject: Results for gcc gnat testsuite on x86_64-unknown-linux-gnu
Native configuration is x86_64-unknown-linux-gnu
=== gnat tests ===
Running target unix/-m32
=== gnat Summary for unix/-m32 ===
# of expected passes 817
# of expected failures 10
# of unsupported tests 4
Running target unix/-m64
=== gnat Summary for unix/-m64 ===
# of expected passes 817
# of expected failures 10
# of unsupported tests 4
=== gnat Summary ===
# of expected passes 1634
# of expected failures 20
# of unsupported tests 8
Compiler version: gcc gnat
Platform: x86_64-unknown-linux-gnu
configure flags:Test Run By guerby on Mon Aug 30 00:03:41 2010