This is the mail archive of the gcc-testresults@gcc.gnu.org mailing list for the GCC project.


Index Nav: [Date Index] [Subject Index] [Author Index] [Thread Index]
Message Nav: [Date Prev] [Date Next] [Thread Prev] [Thread Next]
Other format: [Raw text]

ACATS results for 20100428 (experimental) [trunk revision 158844] on m32r-rtems4.10


HOST: x86_64-unknown-linux-gnu
m32r-rtems4.10-gcc (GCC) 4.6.0 20100428 (experimental) [trunk revision 158844]

=== acats Summary ===


======= Logs for failed tests ======


Index Nav: [Date Index] [Subject Index] [Author Index] [Thread Index]
Message Nav: [Date Prev] [Date Next] [Thread Prev] [Thread Next]