This is the mail archive of the gcc-testresults@gcc.gnu.org mailing list for the GCC project.


Index Nav: [Date Index] [Subject Index] [Author Index] [Thread Index]
Message Nav: [Date Prev] [Date Next] [Thread Prev] [Thread Next]
Other format: [Raw text]

ACATS results for 20100331 (experimental) [trunk revision 157866] on sparc-rtems4.10


HOST: x86_64-unknown-linux-gnu
sparc-rtems4.10-gcc (GCC) 4.5.0 20100331 (experimental) [trunk revision 157866]

=== acats Summary ===
# of expected passes 2302
# of unexpected failures 17
# of unsupported tests 3

ce2108f - simulator does not have persistent files
ce2108h - simulator does not have persistent files
ce3112d - simulator does not have persistent files
c37213j - address exception
c37213k - alignment exception
c380004 - unknown reason for failure
c47007a - alignment exception
c47009a - alignment exception
c52103x - unknown reason for failure
c52104x - unknown reason for failure
c52104y - unknown reason for failure
c761006 - unknown reason for failure
c940a03 - unknown reason for failure
c95066a - unknown reason for failure
c953002 - ran too long, may eventually finish
c97303c - unknown reason for failure
cb1010a - unknown reason for failure
cb1010c - unknown reason for failure
cb1010d - unknown reason for failure
templat - unknown reason for failure

======= Logs for failed tests ======


Index Nav: [Date Index] [Subject Index] [Author Index] [Thread Index]
Message Nav: [Date Prev] [Date Next] [Thread Prev] [Thread Next]