This is the mail archive of the gcc-testresults@gcc.gnu.org mailing list for the GCC project.


Index Nav: [Date Index] [Subject Index] [Author Index] [Thread Index]
Message Nav: [Date Prev] [Date Next] [Thread Prev] [Thread Next]
Other format: [Raw text]

Results for gcc 4.3.4 20090412 (prerelease) (GCC) gcc testsuite on crx-unknown-elf


Hello,

Test results run on crx-unknown-elf target attached. [Used a functional simulator as target-board]


Target is crx-unknown-elf Host is i686-pc-linux-gnu


GNU ld (GNU Binutils) 2.19.51.20090209 GNU assembler (GNU Binutils) 2.19.51.20090209 GNU Make 3.81

DejaGnu:
	Expect version is	5.38.0
	Framework version is	1.4.4


=== gcc Summary ===


# of expected passes 43420
# of unexpected failures 358
# of expected failures 85
# of untested testcases 560
# of unresolved testcases 374
# of unsupported tests 418
/scratch/kafi/common/users/swami/crx/b-native-gcc-4.3-20090412/gcc/xgcc version 4.3.4 20090412 (prerelease) (GCC)



=== g++ Summary ===


# of expected passes 14799
# of unexpected failures 847
# of expected failures 78
# of untested testcases 66
# of unresolved testcases 174
# of unsupported tests 175
/scratch/kafi/common/users/swami/crx/b-native-gcc-4.3-20090412/gcc/testsuite/g++/../../g++ version 4.3.4 20090412 (prerelease) (GCC)




Attachment: gcc.log.bz2
Description: Binary data

Attachment: g++.log.bz2
Description: Binary data


Index Nav: [Date Index] [Subject Index] [Author Index] [Thread Index]
Message Nav: [Date Prev] [Date Next] [Thread Prev] [Thread Next]