This is the mail archive of the gcc-testresults@gcc.gnu.org mailing list for the GCC project.


Index Nav: [Date Index] [Subject Index] [Author Index] [Thread Index]
Message Nav: [Date Prev] [Date Next] [Thread Prev] [Thread Next]
Other format: [Raw text]

Results for 4.4.0 20090119 (experimental) (GCC) testsuite on x86_64-unknown-linux-gnu


LAST_UPDATED: Mon Jan 19 07:24:15 UTC 2009 (revision 143493)

Native configuration is x86_64-unknown-linux-gnu

		=== gcc tests ===


Running target unix

		=== gcc Summary ===

# of expected passes		537
/home/toon/compilers/obj-t/gcc/xgcc  version 4.4.0 20090119 (experimental) (GCC) 

		=== gcc tests ===


Running target unix

		=== gcc Summary ===

# of expected passes		524
/home/toon/compilers/obj-t/gcc/xgcc  version 4.4.0 20090119 (experimental) (GCC) 

		=== gcc tests ===


Running target unix

		=== gcc Summary ===

# of expected passes		198
/home/toon/compilers/obj-t/gcc/xgcc  version 4.4.0 20090119 (experimental) (GCC) 

		=== gfortran tests ===


Running target unix

		=== gfortran Summary ===

# of expected passes		417
/home/toon/compilers/obj-t/gcc/testsuite/gfortran1/../../gfortran  version 4.4.0 20090119 (experimental) (GCC) 

		=== gfortran tests ===


Running target unix

		=== gfortran Summary ===

# of expected passes		505
/home/toon/compilers/obj-t/gcc/testsuite/gfortran2/../../gfortran  version 4.4.0 20090119 (experimental) (GCC) 

		=== gfortran tests ===


Running target unix

		=== gfortran Summary ===

# of expected passes		675
# of expected failures		3
# of unsupported tests		24
/home/toon/compilers/obj-t/gcc/testsuite/gfortran/../../gfortran  version 4.4.0 20090119 (experimental) (GCC) 

		=== libgomp tests ===


Running target unix

		=== libgomp Summary ===

# of expected passes		157
		=== libmudflap tests ===


Running target unix

		=== libmudflap Summary ===

# of expected passes		323

Compiler version: 4.4.0 20090119 (experimental) (GCC) 
Platform: x86_64-unknown-linux-gnu
configure flags: --enable-checking=release --prefix=/usr/snp --disable-multilib --disable-nls --enable-languages=fortran


Index Nav: [Date Index] [Subject Index] [Author Index] [Thread Index]
Message Nav: [Date Prev] [Date Next] [Thread Prev] [Thread Next]