This is the mail archive of the gcc-testresults@gcc.gnu.org mailing list for the GCC project.


Index Nav: [Date Index] [Subject Index] [Author Index] [Thread Index]
Message Nav: [Date Prev] [Date Next] [Thread Prev] [Thread Next]
Other format: [Raw text]

ACATS results for 20090109 (experimental) [trunk revision 143215] on sparc-rtems4.10


sparc-rtems4.10-gcc (GCC) 4.4.0 20090109 (experimental) [trunk revision 143215]

=== acats Summary ===
# of expected passes 2304
# of unexpected failures 8
# of unsupported tests 3

ce2108f - simulator does not have persistent files
ce2108h - simulator does not have persistent files
ce3112d - simulator does not have persistent files
c37213j - address exception
c37213k - alignment exception
c380004 - unknown reason for failure
c47007a - alignment exception
c47009a - alignment exception
c761006 - unknown reason for failure
c953002 - ran too long, may eventually finish
cxg2006 - GNAT BUG DETECTED -- follow up required

======= Logs for failed tests ======


Index Nav: [Date Index] [Subject Index] [Author Index] [Thread Index]
Message Nav: [Date Prev] [Date Next] [Thread Prev] [Thread Next]