This is the mail archive of the
gcc-testresults@gcc.gnu.org
mailing list for the GCC project.
ACATS results for 20081230 (experimental) [trunk revision 142969] on sparc-rtems4.10
- From: "Joel Sherrill <joel dot sherrill at oarcorp dot com>" <joel at oarcorp dot com>
- To: gcc-testresults at gcc dot gnu dot org, rtems-tooltestresults at rtems dot org
- Date: Thu, 1 Jan 2009 17:27:25 -0600
- Subject: ACATS results for 20081230 (experimental) [trunk revision 142969] on sparc-rtems4.10
sparc-rtems4.10-gcc (GCC) 4.4.0 20081230 (experimental) [trunk revision 142969]
=== acats Summary ===
# of expected passes 2301
# of unexpected failures 9
# of unsupported tests 5
ce2108f - simulator does not have persistent files
ce2108h - simulator does not have persistent files
ce3112d - simulator does not have persistent files
cxg2012 - FP exception - SIS simulator is not accurate enough
cxg2017 - FP exception - SIS simulator is not accurate enough
c37213j - address exception
c37213k - alignment exception
c380004 - unknown reason for failure
c47007a - alignment exception
c47009a - alignment exception
c761006 - unknown reason for failure
c953002 - ran too long, may eventually finish
c974013 - unknown reason for failure
cxg2006 - GNAT BUG DETECTED -- follow up required
======= Logs for failed tests ======