This is the mail archive of the
gcc-testresults@gcc.gnu.org
mailing list for the GCC project.
Results for 4.3.3 20081009 (prerelease) (GCC) testsuite on i686-pc-linux-gnu
- From: CodeSourcery Automatic Testing System <gcc at codesourcery dot com>
- To: gcc-testresults at gcc dot gnu dot org
- Date: Thu, 9 Oct 2008 11:06:25 -0700
- Subject: Results for 4.3.3 20081009 (prerelease) (GCC) testsuite on i686-pc-linux-gnu
LAST_UPDATED: Thu Oct 9 14:40:58 UTC 2008 (/branches/gcc-4_3-branch revision 141000)
Native configuration is i686-pc-linux-gnu
=== g++ tests ===
Running target localhost
=== g++ Summary ===
# of expected passes 17682
# of expected failures 82
# of unsupported tests 88
/scratch/gcc/nightly-2008-10-09-4.3/i686-pc-linux-gnu/obj/test-4.3-0-i686-pc-linux-gnu/host-i686-pc-linux-gnu/fsf-4.3/bin/i686-pc-linux-gnu-g++ version 4.3.3 20081009 (prerelease) (GCC)
=== gcc tests ===
Running target localhost
=== gcc Summary ===
# of expected passes 49513
# of expected failures 169
# of untested testcases 35
# of unsupported tests 266
/scratch/gcc/nightly-2008-10-09-4.3/i686-pc-linux-gnu/obj/test-4.3-0-i686-pc-linux-gnu/host-i686-pc-linux-gnu/fsf-4.3/bin/i686-pc-linux-gnu-gcc version 4.3.3 20081009 (prerelease) (GCC)
=== libstdc++ tests ===
Running target localhost
=== libstdc++ Summary ===
# of expected passes 5570
# of expected failures 60
# of unsupported tests 12
=== g++ tests ===
Running target localhost/-m64
=== g++ Summary ===
# of expected passes 17587
# of expected failures 82
# of unsupported tests 122
/scratch/gcc/nightly-2008-10-09-4.3/i686-pc-linux-gnu/obj/test-4.3-0-i686-pc-linux-gnu/host-i686-pc-linux-gnu/fsf-4.3/bin/i686-pc-linux-gnu-g++ version 4.3.3 20081009 (prerelease) (GCC)
=== gcc tests ===
Running target localhost/-m64
=== gcc Summary ===
# of expected passes 49373
# of expected failures 168
# of untested testcases 35
# of unsupported tests 380
/scratch/gcc/nightly-2008-10-09-4.3/i686-pc-linux-gnu/obj/test-4.3-0-i686-pc-linux-gnu/host-i686-pc-linux-gnu/fsf-4.3/bin/i686-pc-linux-gnu-gcc version 4.3.3 20081009 (prerelease) (GCC)
=== libstdc++ tests ===
Running target localhost/-m64
=== libstdc++ Summary ===
# of expected passes 5570
# of expected failures 60
# of unsupported tests 12
Compiler version: 4.3.3 20081009 (prerelease) (GCC)
Platform: i686-pc-linux-gnu
configure flags: --build=i686-pc-linux-gnu --host=i686-pc-linux-gnu --target=i686-pc-linux-gnu --enable-threads --disable-libmudflap --disable-libssp --disable-libstdcxx-pch --enable-targets=all --with-gnu-as --with-gnu-ld --enable-languages=c,c++ --enable-shared --disable-nls --prefix=/opt/codesourcery --with-gmp=/scratch/gcc/nightly-2008-10-09-4.3/i686-pc-linux-gnu/obj/host-libs-4.3-0-i686-pc-linux-gnu-i686-pc-linux-gnu/usr --with-mpfr=/scratch/gcc/nightly-2008-10-09-4.3/i686-pc-linux-gnu/obj/host-libs-4.3-0-i686-pc-linux-gnu-i686-pc-linux-gnu/usr --disable-libgomp --with-build-time-tools=/scratch/gcc/nightly-2008-10-09-4.3/i686-pc-linux-gnu/install/i686-pc-linux-gnu/bin --with-build-time-tools=/scratch/gcc/nightly-2008-10-09-4.3/i686-pc-linux-gnu/install/i686-pc-linux-gnu/bin