This is the mail archive of the gcc-testresults@gcc.gnu.org mailing list for the GCC project.


Index Nav: [Date Index] [Subject Index] [Author Index] [Thread Index]
Message Nav: [Date Prev] [Date Next] [Thread Prev] [Thread Next]
Other format: [Raw text]

ACATS results for 20080801 (experimental) [trunk revision 138538] on sparc-rtems4.9


sparc-rtems4.9-gcc (GCC) 4.4.0 20080801 (experimental) [trunk revision 138538]

=== acats Summary ===
# of expected passes 2300
# of unexpected failures 7
# of unsupported tests 8

ce2108f - simulator does not have persistent files
ce2108h - simulator does not have persistent files
ce3112d - simulator does not have persistent files
cxg2005 - FP exception - SIS simulator is not accurate enough
cxg2012 - FP exception - SIS simulator is not accurate enough
cxg2014 - FP exception - SIS simulator is not accurate enough
cxg2017 - FP exception - SIS simulator is not accurate enough
cxg2020 - FP exception - SIS simulator is not accurate enough
c37213j - address exception
c37213k - alignment exception
c47007a - alignment exception
c47009a - alignment exception
c953002 - ran too long, may eventually finish
cd1c04e - unknown reason for failure -- may have run too long
cd2a24e - GNAT BUG DETECTED -- follow up required


Index Nav: [Date Index] [Subject Index] [Author Index] [Thread Index]
Message Nav: [Date Prev] [Date Next] [Thread Prev] [Thread Next]