This is the mail archive of the
gcc-testresults@gcc.gnu.org
mailing list for the GCC project.
ACATS results for 20080801 (experimental) [trunk revision 138517] on sparc-rtems4.9
- From: Joel Sherrill <joel dot sherrill at oarcorp dot com>
- To: gcc-testresults at gcc dot gnu dot org
- Date: Fri, 1 Aug 2008 15:25:51 -0500
- Subject: ACATS results for 20080801 (experimental) [trunk revision 138517] on sparc-rtems4.9
- Reply-to: joel dot sherrill at oarcorp dot com
sparc-rtems4.9-gcc (GCC) 4.4.0 20080801 (experimental) [trunk revision 138517]
=== acats Summary ===
# of expected passes 2300
# of unexpected failures 7
# of unsupported tests 8
ce2108f - simulator does not have persistent files
ce2108h - simulator does not have persistent files
ce3112d - simulator does not have persistent files
cxg2005 - FP exception - SIS simulator is not accurate enough
cxg2012 - FP exception - SIS simulator is not accurate enough
cxg2014 - FP exception - SIS simulator is not accurate enough
cxg2017 - FP exception - SIS simulator is not accurate enough
cxg2020 - FP exception - SIS simulator is not accurate enough
c37213j - address exception
c37213k - alignment exception
c47007a - alignment exception
c47009a - alignment exception
c953002 - ran too long, may eventually finish
cd1c04e - unknown reason for failure -- may have run too long
cd2a24e - GNAT BUG DETECTED -- follow up required